BEGIN:VCALENDAR
VERSION:2.0
PRODID:-//MDS FELLOWSHIP - ECPv6.7.0//NONSGML v1.0//EN
CALSCALE:GREGORIAN
METHOD:PUBLISH
X-WR-CALNAME:MDS FELLOWSHIP
X-ORIGINAL-URL:https://www.mdsfellowship.com
X-WR-CALDESC:Events for MDS FELLOWSHIP
REFRESH-INTERVAL;VALUE=DURATION:PT1H
X-Robots-Tag:noindex
X-PUBLISHED-TTL:PT1H
BEGIN:VTIMEZONE
TZID:UTC
BEGIN:STANDARD
TZOFFSETFROM:+0000
TZOFFSETTO:+0000
TZNAME:UTC
DTSTART:20140101T000000
END:STANDARD
END:VTIMEZONE
BEGIN:VEVENT
DTSTART;VALUE=DATE:20141014
DTEND;VALUE=DATE:20251017
DTSTAMP:20260423T034955
CREATED:20190802T004857Z
LAST-MODIFIED:20230828T002911Z
UID:263-1413244800-1760659199@www.mdsfellowship.com
SUMMARY:Life Church Youth - Pool Party
DESCRIPTION:Volunteer church service		\n				\n					\n		\n					\n		\n				\n						\n					\n			\n						\n				\n			Home		\n				\n				\n				\n			/		\n				\n				\n				\n			Volunteer church service		\n				\n					\n		\n					\n		\n					\n		\n					\n		\n				\n						\n					\n			\n						\n				\n					\n\n						\n				\n														\n			\n			\n						\n\n									\n						\n							Location						\n					\n				\n									\n						Adipisicing Park\, Madison\nRoad\, Cupertino					 \n				\n			\n			\n		\n				\n				\n					\n		\n				\n			\n						\n				\n					\n\n						\n				\n								\n			\n			\n						\n\n									\n						\n							Time Event						\n					\n				\n									\n						Sundays - 8:00am\, \n9:30am  & 11:15am					 \n				\n			\n			\n		\n				\n				\n					\n		\n				\n			\n						\n				\n					\n\n						\n				\n								\n			\n			\n						\n\n									\n						\n							Event Organizer						\n					\n				\n									\n						Stephen Harris\, \nLoundira John					 \n				\n			\n			\n		\n				\n				\n					\n		\n					\n		\n				\n						\n					\n			\n						\n				\n																										\n				\n				\n				\n			 		\n				\n				\n				\n			@churchname		\n				\n				\n				\n			Volunteer church service		\n				\n				\n				\n			There are times when life is overwhelming\, when all we have is questions. In those moments\, hope can feel far away. The great thing about prayer is that it shifts our perspective toward the One who stands ready to listen. No matter what you’re facing\, At Life.Church\, one of our core values is irrational generosity. We're committed to equipping the "capital C” Church in every way we can. That's why the Church Online Platform is available completely free of charge.		\n				\n				\n				\n			Our definition of "free" extends to support and updates\, too. You'll get personalized customer service\, software upgrades\, and new features for the life of the tool.we’d love to pray with you!		\n				\n				\n				\n			Share This Event		\n				\n					\n		\n					\n		\n				\n						\n					\n			\n						\n						\n					\n			\n					\n						\n				\n					\n\n						\n				\n								\n			\n			\n						\n\n									\n						\n							Facebook						\n					\n				\n				\n			\n			\n		\n				\n				\n					\n		\n				\n			\n					\n						\n				\n					\n\n						\n				\n								\n			\n			\n						\n\n									\n						\n							Twitter						\n					\n				\n				\n			\n			\n		\n				\n				\n					\n		\n				\n			\n					\n						\n				\n					\n\n						\n				\n								\n			\n			\n						\n\n									\n						\n							Pinterest						\n					\n				\n				\n			\n			\n		\n				\n				\n					\n		\n				\n			\n					\n						\n				\n					\n\n						\n				\n								\n			\n			\n						\n\n									\n						\n							Linkedin						\n					\n				\n				\n			\n			\n		\n				\n				\n					\n		\n				\n			\n					\n						\n				\n					\n\n						\n				\n								\n			\n			\n						\n\n									\n						\n							Tumblr						\n					\n				\n				\n			\n			\n		\n				\n				\n					\n		\n					\n		\n				\n				\n					\n			\n		\n				\n				\n				\n				\n			There are times when life is overwhelming\, when all we have is questions. In those moments\, hope can feel far away. The great thing about prayer is that it shifts our perspective toward the One who stands ready to listen. No matter what you’re facing\, At Life.Church\, one of our core values is irrational generosity. We're committed to equipping the "capital C” Church in every way we can. That's why the Church Online Platform is available completely free of charge.		\n				\n				\n				\n			Our definition of "free" extends to support and updates\, too. You'll get personalized customer service\, software upgrades\, and new features for the life of the tool.we’d love to pray with you!		\n				\n					\n		\n					\n		\n				\n						\n					\n			\n						\n				\n			The Learned Speakers		\n				\n				\n				\n						\n										\n									\n						\n						\n					\n			\n						\n				\n																										\n				\n				\n						\n					\n			\n						\n				\n			Daniel John		\n				\n				\n				\n					\n							\n											\n													\n										Senior Postor\n									\n								\n											\n													\n										Scottsdale\, AZ\n									\n						\n				\n				\n				\n				\n			JC Beichner is the award-winning author of “Grace in Progress Prayers		\n				\n					\n		\n					\n		\n					\n		\n					\n		\n				\n								\n												\n									\n						\n						\n					\n			\n						\n				\n																										\n				\n				\n						\n					\n			\n						\n				\n			Roman Roll		\n				\n				\n				\n					\n							\n											\n													\n										Christian Speaker\n									\n								\n											\n													\n										Scottsdale\, AZ\n									\n						\n				\n				\n				\n				\n			JC Beichner is the award-winning author of “Grace in Progress Prayers 		\n				\n					\n		\n					\n		\n					\n		\n					\n		\n				\n								\n												\n									\n						\n						\n					\n			\n						\n				\n																										\n				\n				\n						\n					\n			\n						\n				\n			Adina		\n				\n				\n				\n					\n							\n											\n													\n										Christian Speaker\n									\n								\n											\n													\n										Scottsdale\, AZ\n									\n						\n				\n				\n				\n				\n			JC Beichner is the award-winning author of “Grace in Progress Prayers 		\n				\n					\n		\n					\n		\n					\n		\n					\n		\n				\n								\n												\n									\n						\n						\n					\n			\n						\n				\n																										\n				\n				\n						\n					\n			\n						\n				\n			James Smith		\n				\n				\n				\n					\n							\n											\n													\n										Christian Speaker\n									\n								\n											\n													\n										Scottsdale\, AZ\n									\n						\n				\n				\n				\n				\n			JC Beichner is the award-winning author of “Grace in Progress Prayers 		\n				\n					\n		\n					\n		\n					\n		\n					\n		\n				\n								\n									\n\n					\n				\n				\n				\n			Event Memories
URL:https://www.mdsfellowship.com/event/life-church-youth-pool-party/
LOCATION:Brookwood Church\, Atlanta Highway\, Montgomery\, San Francisco\, CA\, 415\, United States
CATEGORIES:Church Event
ATTACH;FMTTYPE=image/jpeg:https://www.mdsfellowship.com/wp-content/uploads/2019/07/event-image-6.jpg
END:VEVENT
END:VCALENDAR